BEGIN:VCALENDAR
VERSION:2.0
PRODID:-//Fundación TecnoVitae - ECPv6.15.20//NONSGML v1.0//EN
CALSCALE:GREGORIAN
METHOD:PUBLISH
X-ORIGINAL-URL:https://fundaciontecnovitae.org
X-WR-CALDESC:Eventos para Fundación TecnoVitae
REFRESH-INTERVAL;VALUE=DURATION:PT1H
X-Robots-Tag:noindex
X-PUBLISHED-TTL:PT1H
BEGIN:VTIMEZONE
TZID:Europe/Madrid
BEGIN:DAYLIGHT
TZOFFSETFROM:+0100
TZOFFSETTO:+0200
TZNAME:CEST
DTSTART:20230326T010000
END:DAYLIGHT
BEGIN:STANDARD
TZOFFSETFROM:+0200
TZOFFSETTO:+0100
TZNAME:CET
DTSTART:20231029T010000
END:STANDARD
BEGIN:DAYLIGHT
TZOFFSETFROM:+0100
TZOFFSETTO:+0200
TZNAME:CEST
DTSTART:20240331T010000
END:DAYLIGHT
BEGIN:STANDARD
TZOFFSETFROM:+0200
TZOFFSETTO:+0100
TZNAME:CET
DTSTART:20241027T010000
END:STANDARD
BEGIN:DAYLIGHT
TZOFFSETFROM:+0100
TZOFFSETTO:+0200
TZNAME:CEST
DTSTART:20250330T010000
END:DAYLIGHT
BEGIN:STANDARD
TZOFFSETFROM:+0200
TZOFFSETTO:+0100
TZNAME:CET
DTSTART:20251026T010000
END:STANDARD
END:VTIMEZONE
BEGIN:VEVENT
DTSTART;TZID=Europe/Madrid:20240325T080000
DTEND;TZID=Europe/Madrid:20240325T170000
DTSTAMP:20260426T054122
CREATED:20240321T093732Z
LAST-MODIFIED:20240321T093732Z
UID:927-1711353600-1711386000@fundaciontecnovitae.org
SUMMARY:FuckUp Nights
DESCRIPTION:Las FuckUp Nights celebran su primera edición en Valladolid de la mano de la Fundación TecnoVitae
URL:https://fundaciontecnovitae.org/evento/fuckup-nights/
LOCATION:Fundación TecnoVitae\, Calle Divina Pastora 1\, 1º\, Valladolid\, Valladolid\, 47004\, Spain
ATTACH;FMTTYPE=image/jpeg:https://fundaciontecnovitae.org/wp-content/uploads/fuck-post-1.jpg
END:VEVENT
BEGIN:VEVENT
DTSTART;TZID=Europe/Madrid:20240328T080000
DTEND;TZID=Europe/Madrid:20240328T170000
DTSTAMP:20260426T054122
CREATED:20240321T093759Z
LAST-MODIFIED:20240321T093838Z
UID:931-1711612800-1711645200@fundaciontecnovitae.org
SUMMARY:Nuevo evento
DESCRIPTION:Las FuckUp Nights celebran su primera edición en Valladolid de la mano de la Fundación TecnoVitae
URL:https://fundaciontecnovitae.org/evento/fuckup-nights-copy/
LOCATION:Fundación TecnoVitae\, Calle Divina Pastora 1\, 1º\, Valladolid\, Valladolid\, 47004\, Spain
ATTACH;FMTTYPE=image/jpeg:https://fundaciontecnovitae.org/wp-content/uploads/fuck-post-1.jpg
END:VEVENT
END:VCALENDAR