BEGIN:VCALENDAR
VERSION:2.0
PRODID:-//Fundación TecnoVitae - ECPv6.15.20//NONSGML v1.0//EN
CALSCALE:GREGORIAN
METHOD:PUBLISH
X-WR-CALNAME:Fundación TecnoVitae
X-ORIGINAL-URL:https://fundaciontecnovitae.org
X-WR-CALDESC:Eventos para Fundación TecnoVitae
REFRESH-INTERVAL;VALUE=DURATION:PT1H
X-Robots-Tag:noindex
X-PUBLISHED-TTL:PT1H
BEGIN:VTIMEZONE
TZID:Europe/Madrid
BEGIN:DAYLIGHT
TZOFFSETFROM:+0100
TZOFFSETTO:+0200
TZNAME:CEST
DTSTART:20230326T010000
END:DAYLIGHT
BEGIN:STANDARD
TZOFFSETFROM:+0200
TZOFFSETTO:+0100
TZNAME:CET
DTSTART:20231029T010000
END:STANDARD
BEGIN:DAYLIGHT
TZOFFSETFROM:+0100
TZOFFSETTO:+0200
TZNAME:CEST
DTSTART:20240331T010000
END:DAYLIGHT
BEGIN:STANDARD
TZOFFSETFROM:+0200
TZOFFSETTO:+0100
TZNAME:CET
DTSTART:20241027T010000
END:STANDARD
BEGIN:DAYLIGHT
TZOFFSETFROM:+0100
TZOFFSETTO:+0200
TZNAME:CEST
DTSTART:20250330T010000
END:DAYLIGHT
BEGIN:STANDARD
TZOFFSETFROM:+0200
TZOFFSETTO:+0100
TZNAME:CET
DTSTART:20251026T010000
END:STANDARD
BEGIN:DAYLIGHT
TZOFFSETFROM:+0100
TZOFFSETTO:+0200
TZNAME:CEST
DTSTART:20260329T010000
END:DAYLIGHT
BEGIN:STANDARD
TZOFFSETFROM:+0200
TZOFFSETTO:+0100
TZNAME:CET
DTSTART:20261025T010000
END:STANDARD
END:VTIMEZONE
BEGIN:VEVENT
DTSTART;TZID=Europe/Madrid:20251017T110000
DTEND;TZID=Europe/Madrid:20251017T120000
DTSTAMP:20260424T223540
CREATED:20260108T142713Z
LAST-MODIFIED:20260108T143003Z
UID:991677-1760698800-1760702400@fundaciontecnovitae.org
SUMMARY:El director general\, Javier Escribano\, anima a los universitarios a inscribirse “ya” en el concurso 3×3 TecnoVitae
DESCRIPTION:El concurso universitario 3×3 TecnoVitae – Europa en manos jóvenes arranca el próximo 24 de octubre y la Cadena COPE Castilla y León ha querido saber más sobre el certamen invitando a sus estudios a Javier Escribano\, director general de la Fundación. En la entrevista\, ha dado más detalles sobre esta iniciativa que reta a estudiantes de Castilla y León a pensar en cómo la inteligencia artificial (IA) puede ayudar a Europa a ser más autónoma y depender menos del exterior. \n\n\n\n\n\n\n\n\n\nSe trata de una fuerte apuesta de la Fundación TecnoVitae por la creatividad\, la comunicación y el trabajo en equipo de los universitarios de Castilla y León\, ya que pueden participar estudiantes de las cuatro universidades públicas de la región: Burgos\, León\, Salamanca y Valladolid. \n\n\n\n\n\n\n\n\n\n\n\n\n\n\n\nDe qué va el reto\nEl concurso se llama precisamente 3×3 TecnoVitae porque consiste en tres pruebas online seguidas de una fase presencial final. Los equipos\, formados por entre tres y cinco estudiantes universitarios de cualquier disciplina. En las primeras tres pruebas online los equipos presentarán un vídeo corto con su proyecto\, un cartel visual que identifique la idea y un logotipo con su justificación. \nLuego\, los mejores equipos defenderán su propuesta en una final presencial ante un jurado. Allí deberán presentar su idea con seis diapositivas\, cada una en 40 segundos – un total de alrededor de 4 a 5 minutos. Los ganadores tendrán como premio la posibilidad de visitar la institución europea o centro tecnológico que ellos elijan. “Son ellos quienes van a decidir qué centro europeo o qué institución europea quieren visitar y nosotros haremos todo lo posible para facilitárselo”\, ha detallado Javier Escribano. El Parlamento Europeo\, la bóveda de semillas de Svalbard en Noruega o el acelerador de hadrones de Suiza son algunos de los posibles destinos que ha puesto como ejemplo. \nPlazos y cómo inscribirse\nEl plazo para inscribirse ya está abierto. Las inscripciones se realizan en la web oficial del concurso: 3×3.fundaciontecnovitae.org. Ahí\, los equipos podrán ver las bases completas\, el calendario\, los criterios de evaluación\, etc. \nLa primera prueba online comienza el 24 de octubre y los equipos pueden apuntarse hasta el 12 de noviembre\, aunque Javier Escribano ha recomendado hacerlo “ya” para no tener desventaja frente a quienes participen desde el inicio. No obstante\, seguirán aceptándose inscripciones\, aunque algunas pruebas ya estén en marcha. \nPoner en valor lo que se hace en Europa\nComo ha comentado nuestro director general \, desde la Fundación Tecnovitae “queremos poner en valor todo lo que hacemos en Europa y\, sobre todo\, todo el beneficio que reportan a la sociedad la ciencia y la tecnología”. Este proyecto busca\, por tanto\, inspirar a los jóvenes a ver la tecnología como una herramienta de transformación\, a valorar las soft skills y a reconocer su papel como agentes de cambio. \nEl 3×3 TecnoVitae aparece como una ventana para que los estudiantes universitarios de Castilla y León propongan ideas innovadoras y\, además\, aprendan a contarlas\, defenderlas\, trabajar en equipo y conectar los conocimientos con el mundo real. En una Europa que busca autonomía tecnológica\, este concurso les pide mirar al futuro\, imaginar\, comunicar y participar. No basta con saber: también hay que expresarse\, dialogar y colaborar. \nSi estás en una universidad pública de Castilla y León con inquietud por la innovación\, este concurso es tu oportunidad: inscribe a tu equipo\, busca un tutor\, prepárate para pensar en grande. Porque Europa\, en manos jóvenes\, puede ser mucho más autónoma.
URL:https://fundaciontecnovitae.org/evento/el-director-general-javier-escribano-anima-a-los-universitarios-a-inscribirse-ya-en-el-concurso-3x3-tecnovitae/
LOCATION:Cope Valladolid\, Calle Duque de la Victoria\, 25\, Valladolid\, Spain
ATTACH;FMTTYPE=image/jpeg:https://fundaciontecnovitae.org/wp-content/uploads/entrevista-3x3-cope-post-1.jpg
END:VEVENT
BEGIN:VEVENT
DTSTART;TZID=Europe/Madrid:20250627T190000
DTEND;TZID=Europe/Madrid:20250627T230000
DTSTAMP:20260424T223540
CREATED:20260108T144750Z
LAST-MODIFIED:20260108T144750Z
UID:991690-1751050800-1751065200@fundaciontecnovitae.org
SUMMARY:Gala de Entrega de Premios
DESCRIPTION:Los VII Premios de la Industria en España\, que organiza la Fundación TecnoVitae\, son una oportunidad única para destacar y obtener el reconocimiento que tu empresa y tú merecen en el campo de la ingeniería. Estos premios no solo celebran la excelencia y la innovación\, sino que ser parte de los VII Premios de la Industria en España te permitirá elevar tu perfil profesional\, fortalecer tu marca y demostrar tu liderazgo en tu sector. Su objetivo es dar visibilidad a la importante aportación de la industria a las sociedades avanzadas que\, a su vez\, es uno de los fines principales de la Fundación TecnoVitae (sociedad · tecnología · industria).
URL:https://fundaciontecnovitae.org/evento/gala-de-entrega-de-premios/
LOCATION:Centro Cultural Miguel Delibes\, Av. del Real Valladolid\, 2\, Valladolid\, Spain
ATTACH;FMTTYPE=image/jpeg:https://fundaciontecnovitae.org/wp-content/uploads/portada-video.jpg
END:VEVENT
BEGIN:VEVENT
DTSTART;TZID=Europe/Madrid:20240410T080000
DTEND;TZID=Europe/Madrid:20240410T170000
DTSTAMP:20260424T223540
CREATED:20240321T093811Z
LAST-MODIFIED:20240321T093856Z
UID:933-1712736000-1712768400@fundaciontecnovitae.org
SUMMARY:Congreso
DESCRIPTION:Las FuckUp Nights celebran su primera edición en Valladolid de la mano de la Fundación TecnoVitae
URL:https://fundaciontecnovitae.org/evento/fuckup-nights-copy-copy/
LOCATION:Fundación TecnoVitae\, Calle Divina Pastora 1\, 1º\, Valladolid\, Valladolid\, 47004\, Spain
ATTACH;FMTTYPE=image/jpeg:https://fundaciontecnovitae.org/wp-content/uploads/fuck-post-1.jpg
END:VEVENT
BEGIN:VEVENT
DTSTART;TZID=Europe/Madrid:20240328T080000
DTEND;TZID=Europe/Madrid:20240328T170000
DTSTAMP:20260424T223540
CREATED:20240321T093759Z
LAST-MODIFIED:20240321T093838Z
UID:931-1711612800-1711645200@fundaciontecnovitae.org
SUMMARY:Nuevo evento
DESCRIPTION:Las FuckUp Nights celebran su primera edición en Valladolid de la mano de la Fundación TecnoVitae
URL:https://fundaciontecnovitae.org/evento/fuckup-nights-copy/
LOCATION:Fundación TecnoVitae\, Calle Divina Pastora 1\, 1º\, Valladolid\, Valladolid\, 47004\, Spain
ATTACH;FMTTYPE=image/jpeg:https://fundaciontecnovitae.org/wp-content/uploads/fuck-post-1.jpg
END:VEVENT
BEGIN:VEVENT
DTSTART;TZID=Europe/Madrid:20240325T080000
DTEND;TZID=Europe/Madrid:20240325T170000
DTSTAMP:20260424T223540
CREATED:20240321T093732Z
LAST-MODIFIED:20240321T093732Z
UID:927-1711353600-1711386000@fundaciontecnovitae.org
SUMMARY:FuckUp Nights
DESCRIPTION:Las FuckUp Nights celebran su primera edición en Valladolid de la mano de la Fundación TecnoVitae
URL:https://fundaciontecnovitae.org/evento/fuckup-nights/
LOCATION:Fundación TecnoVitae\, Calle Divina Pastora 1\, 1º\, Valladolid\, Valladolid\, 47004\, Spain
ATTACH;FMTTYPE=image/jpeg:https://fundaciontecnovitae.org/wp-content/uploads/fuck-post-1.jpg
END:VEVENT
END:VCALENDAR