BEGIN:VCALENDAR
VERSION:2.0
PRODID:-//Fundación TecnoVitae - ECPv6.15.20//NONSGML v1.0//EN
CALSCALE:GREGORIAN
METHOD:PUBLISH
X-ORIGINAL-URL:https://fundaciontecnovitae.org
X-WR-CALDESC:Eventos para Fundación TecnoVitae
REFRESH-INTERVAL;VALUE=DURATION:PT1H
X-Robots-Tag:noindex
X-PUBLISHED-TTL:PT1H
BEGIN:VTIMEZONE
TZID:Europe/Madrid
BEGIN:DAYLIGHT
TZOFFSETFROM:+0100
TZOFFSETTO:+0200
TZNAME:CEST
DTSTART:20250330T010000
END:DAYLIGHT
BEGIN:STANDARD
TZOFFSETFROM:+0200
TZOFFSETTO:+0100
TZNAME:CET
DTSTART:20251026T010000
END:STANDARD
BEGIN:DAYLIGHT
TZOFFSETFROM:+0100
TZOFFSETTO:+0200
TZNAME:CEST
DTSTART:20260329T010000
END:DAYLIGHT
BEGIN:STANDARD
TZOFFSETFROM:+0200
TZOFFSETTO:+0100
TZNAME:CET
DTSTART:20261025T010000
END:STANDARD
BEGIN:DAYLIGHT
TZOFFSETFROM:+0100
TZOFFSETTO:+0200
TZNAME:CEST
DTSTART:20270328T010000
END:DAYLIGHT
BEGIN:STANDARD
TZOFFSETFROM:+0200
TZOFFSETTO:+0100
TZNAME:CET
DTSTART:20271031T010000
END:STANDARD
END:VTIMEZONE
BEGIN:VEVENT
DTSTART;TZID=Europe/Madrid:20260226T110000
DTEND;TZID=Europe/Madrid:20260226T130000
DTSTAMP:20260425T130035
CREATED:20260224T095616Z
LAST-MODIFIED:20260316T115844Z
UID:991964-1772103600-1772110800@fundaciontecnovitae.org
SUMMARY:Presentación de la Radiografía de la Opinión Pública en Castilla y León
DESCRIPTION:Presentación de la Radiografía de la Opinión Pública en Castilla y León\, un estudio inédito elaborado por la consultora de comunicación y asuntos públicos BeConfluence\, que ofrece un análisis profundo del pensamiento y las preocupaciones de la sociedad castellano y leonesa con vistas a las elecciones autonómicas del 15 de marzo\, en las que más de 2\,1 millones de ciudadanos están convocados a las urnas.
URL:https://fundaciontecnovitae.org/evento/presentacion-de-la-radiografia-de-la-opinion-publica-en-castilla-y-leon/
LOCATION:Fundación TecnoVitae\, Calle Divina Pastora 1\, 1º\, Valladolid\, Valladolid\, 47004\, Spain
ATTACH;FMTTYPE=image/jpeg:https://fundaciontecnovitae.org/wp-content/uploads/TECNOVITAE-blanco-scaled.jpg
END:VEVENT
BEGIN:VEVENT
DTSTART;TZID=Europe/Madrid:20260303T090000
DTEND;TZID=Europe/Madrid:20260303T140000
DTSTAMP:20260425T130035
CREATED:20260121T091234Z
LAST-MODIFIED:20260126T110824Z
UID:991785-1772528400-1772546400@fundaciontecnovitae.org
SUMMARY:Final de la I Edición del Concurso 3x3 TecnoVitae
DESCRIPTION:La Fundación TecnoVitae celebra la fase final de la I Edición del Concurso 3×3\, un certamen universitario centrado en esta ocasión en la Autonomía Estratégica Europea y la Inteligencia Artificial. En esta convocatoria participan todas las universidades públicas de Castilla y León\, estando abierta la inscripción a estudiantes de cualquier grado. \nTras superar tres meses de retos clasificatorios\, los equipos clasificados defenderán sus proyectos definitivos ante un gran jurado. El concurso evalúa la capacidad comunicativa de los estudiantes para defender sus proyectos sobre cómo aplicar la IA en la resolución de problemas de dependencia tecnológica en Europa\, integrando factores económicos\, sociales y éticos. \nEquipos clasificados para la final: Tras la fase de clasificación\, los equipos que optan al premio final son: \n\n\nONEHEALTHEU – Universidad de Valladolid \n\n\nD.R.A.G. A.I. – Universidad de León \n\n\nErgaOmnes – Universidad de Burgos \n\n\nNovaEuropa – Universidad de Salamanca \n\n\nTELECO C – Universidad de Valladolid
URL:https://fundaciontecnovitae.org/evento/final-de-la-i-edicion-del-concurso-3x3-tecnovitae/
LOCATION:Consejo Economico y Social de Castilla y Leon\, Avenida de Salamanca\, 51\, Valladolid\, Spain
ATTACH;FMTTYPE=image/png:https://fundaciontecnovitae.org/wp-content/uploads/3x3-TecnoVitae-1080-x-1350-px-1.png
END:VEVENT
BEGIN:VEVENT
DTSTART;TZID=Europe/Madrid:20260304T193000
DTEND;TZID=Europe/Madrid:20260304T213000
DTSTAMP:20260425T130035
CREATED:20260316T115758Z
LAST-MODIFIED:20260316T115823Z
UID:992087-1772652600-1772659800@fundaciontecnovitae.org
SUMMARY:Foro de Empresarios: Independencia Energética
DESCRIPTION:El próximo miércoles 4 de marzo a las 19:30h\, la Fundación se suma a una nueva sesión del Foro de Empresarios. Nuestro director general\, D. F. Javier Escribano Cordovés.\, asistirá a la conferencia de Patxi Calleja\, una de las voces más autorizadas del sector energético como Director de Regulación de Iberdrola España. \nBajo el título “El camino hacia la independencia energética”\, analizaremos los retos y decisiones clave del panorama actual. El encuentro concluirá con un momento perfecto para el networking y la conversación entre compañeros.
URL:https://fundaciontecnovitae.org/evento/foro-de-empresarios-independencia-energetica/
LOCATION:Palacio AC Santa Ana\, Dirección: Cam. de la Flecha\, S/N\, Valladolid\, 47197
ATTACH;FMTTYPE=image/png:https://fundaciontecnovitae.org/wp-content/uploads/720_so7yav08fy.png
END:VEVENT
BEGIN:VEVENT
DTSTART;TZID=Europe/Madrid:20260305T173000
DTEND;TZID=Europe/Madrid:20260305T213000
DTSTAMP:20260425T130035
CREATED:20260224T104753Z
LAST-MODIFIED:20260224T104753Z
UID:991967-1772731800-1772746200@fundaciontecnovitae.org
SUMMARY:El Director General de la Fundación TecnoVitae en los Premios de Transformación Digital
DESCRIPTION:El Director General de la Fundación TecnoVitae\, D. F. Javier Escribano Cordovés\, asistirá el próximo 5 de marzo a la entrega de los XI Premios Transformación Digital. \nEn este acto\, que se celebrará en la Feria de Valladolid (17:45h)\, la Fundación refuerza su papel como motor del cambio tecnológico y la innovación. Acompañaremos a las empresas e instituciones que están marcando el camino de la competitividad digital en Castilla y León.
URL:https://fundaciontecnovitae.org/evento/el-director-general-de-la-fundacion-tecnovitae-en-los-premios-de-transformacion-digital/
LOCATION:Feria de Valladolid\, Feria de Muestras\, Av. Ramón Pradera\, 3\,\, Valladolid\, 47009
ATTACH;FMTTYPE=image/jpeg:https://fundaciontecnovitae.org/wp-content/uploads/unnamed-scaled.jpg
END:VEVENT
BEGIN:VEVENT
DTSTART;TZID=Europe/Madrid:20260309T120000
DTEND;TZID=Europe/Madrid:20260309T123000
DTSTAMP:20260425T130035
CREATED:20260220T080059Z
LAST-MODIFIED:20260316T073133Z
UID:991952-1773057600-1773059400@fundaciontecnovitae.org
SUMMARY:La Fundación TecnoVitae y BEST Valladolid se unen en FiBEST
DESCRIPTION:La Fundación TecnoVitae y la asociación estudiantil BEST Valladolid han firmado un acuerdo de colaboración para impulsar iniciativas conjuntas orientadas a fomentar la empleabilidad y el desarrollo profesional de los estudiantes universitarios\, reforzando el vínculo entre el ámbito académico\, el sector tecnológico y el tejido empresarial. \n \nLa firma del acuerdo ha contado con la participación de Alejandra Alonso\, Project Manager de la Fundación TecnoVitae; Luis Prieto\, secretario de BEST Valladolid; y Marco Sánchez\, miembro del equipo organizador de FiBEST\, el foro de empleo universitario que se celebra anualmente en Valladolid.
URL:https://fundaciontecnovitae.org/evento/la-fundacion-tecnovitae-y-best-valladolid-se-unen-en-fibest/
LOCATION:Fundación TecnoVitae\, Calle Divina Pastora 1\, 1º\, Valladolid\, Valladolid\, 47004\, Spain
ATTACH;FMTTYPE=image/jpeg:https://fundaciontecnovitae.org/wp-content/uploads/Acuerdo-fibest-wen.jpg
END:VEVENT
BEGIN:VEVENT
DTSTART;TZID=Europe/Madrid:20260313T110000
DTEND;TZID=Europe/Madrid:20260313T113000
DTSTAMP:20260425T130035
CREATED:20260316T073701Z
LAST-MODIFIED:20260316T073701Z
UID:992084-1773399600-1773401400@fundaciontecnovitae.org
SUMMARY:La Fundación TecnoVitae y Caja Rural de Zamora refuerzan su alianza
DESCRIPTION:Caja Rural de Zamora y la Fundación TecnoVitae han renovado su acuerdo de colaboración\, que consolida una alianza que en los últimos años ha permitido impulsar distintas iniciativas orientadas a promover la innovación\, la tecnología y el desarrollo del tejido industrial. \nEn el acto de firma del acuerdo han participado Javier Escribano\, director general de la Fundación TecnoVitae\, y Narciso Prieto\, director de Imagen\, Comunicación y Relaciones Institucionales de Caja Rural de Zamora\, quienes han destacado la importancia de continuar fortaleciendo la colaboración entre ambas entidades para seguir impulsando proyectos que pongan en valor la ingeniería\, la tecnología y el papel de la industria en el desarrollo económico y social.
URL:https://fundaciontecnovitae.org/evento/la-fundacion-tecnovitae-y-caja-rural-de-zamora-refuerzan-su-alianza/
LOCATION:Caja Rural de Zamora\, &\, Pl. de España\, C. Miguel Íscar\,\, Valladolid\, 47001
ATTACH;FMTTYPE=image/jpeg:https://fundaciontecnovitae.org/wp-content/uploads/acuerdo-cajarural-web.jpeg
END:VEVENT
BEGIN:VEVENT
DTSTART;TZID=Europe/Madrid:20260317T100000
DTEND;TZID=Europe/Madrid:20260317T130000
DTSTAMP:20260425T130035
CREATED:20260220T074151Z
LAST-MODIFIED:20260220T074151Z
UID:991950-1773741600-1773752400@fundaciontecnovitae.org
SUMMARY:Jornada: "Empresas innovadoras y propiedad industrial: qué debería (y me conviene) saber". UNGRIA Patentes y Marcas
DESCRIPTION:Marcar la diferencia no es solo tener una buena idea\, es saber protegerla. Por eso\, el próximo 17 de marzo nos vemos en IDEVA de la mano de la Fundación TecnoVitae y UNGRIA Patentes y Marcas. \nBajo el título «Empresas innovadoras y propiedad industrial: qué debería (y me conviene) saber»\, desvelaremos las claves que toda empresa puntera necesita para navegar con seguridad en el mercado actual. Ven a descubrir por qué la propiedad industrial es la mejor inversión para tu talento.
URL:https://fundaciontecnovitae.org/evento/jornada-empresas-innovadoras-y-propiedad-industrial-que-deberia-y-me-conviene-saber-ungria-patentes-y-marcas/
LOCATION:Ideva – Agencia de Innovacion y Desarrollo Economico de Valladolid\, Calle de Vega Sicilia\, 2\, Valladolid\, Spain
ATTACH;FMTTYPE=image/png:https://fundaciontecnovitae.org/wp-content/uploads/Jornada-UNGRIA-IdeVa-marzo.png
END:VEVENT
BEGIN:VEVENT
DTSTART;TZID=Europe/Madrid:20260320T120000
DTEND;TZID=Europe/Madrid:20260320T130000
DTSTAMP:20260425T130035
CREATED:20260325T120642Z
LAST-MODIFIED:20260325T120642Z
UID:992119-1774008000-1774011600@fundaciontecnovitae.org
SUMMARY:Los IX Premios de la Industria en España reconocerán el esfuerzo\, la innovación y el liderazgo industrial del país
DESCRIPTION:La Fundación TecnoVitae ha presentado la nueva edición de los premios\, que se celebrarán el 18 de junio en el Centro Cultural Miguel Delibes de Valladolid\nLa Fundación TecnoVitae ha presentado los IX Premios de la Industria en España y ha anunciado que ya están abiertas las candidaturas para todas aquellas empresas interesadas en optar a este reconocimiento. La mañana del 11 de mayo es el momento límite para la presentación de propuestas\, que deberán enviarse a través de la web oficial: premiosdelaindustria.es.​
URL:https://fundaciontecnovitae.org/evento/los-ix-premios-de-la-industria-en-espana-reconoceran-el-esfuerzo-la-innovacion-y-el-liderazgo-industrial-del-pais/
LOCATION:Fundación TecnoVitae\, Calle Divina Pastora 1\, 1º\, Valladolid\, Valladolid\, 47004\, Spain
ATTACH;FMTTYPE=image/jpeg:https://fundaciontecnovitae.org/wp-content/uploads/Presentacion-IXPremios-1.jpg
END:VEVENT
BEGIN:VEVENT
DTSTART;TZID=Europe/Madrid:20260413T120000
DTEND;TZID=Europe/Madrid:20260413T170000
DTSTAMP:20260425T130035
CREATED:20260407T072104Z
LAST-MODIFIED:20260407T072126Z
UID:992146-1776081600-1776099600@fundaciontecnovitae.org
SUMMARY:Reunión del Patronato de la Fundación TecnoVitae
DESCRIPTION:El próximo lunes 13 de abril\, el Patronato de la Fundación TecnoVitae se reunirá en sesión ordinaria.
URL:https://fundaciontecnovitae.org/evento/reunion-del-patronato-de-la-fundacion-tecnovitae/
LOCATION:Fundación TecnoVitae\, Calle Divina Pastora 1\, 1º\, Valladolid\, Valladolid\, 47004\, Spain
ATTACH;FMTTYPE=image/jpeg:https://fundaciontecnovitae.org/wp-content/uploads/TECNOVITAE-blanco-scaled.jpg
END:VEVENT
BEGIN:VEVENT
DTSTART;TZID=Europe/Madrid:20260421T120000
DTEND;TZID=Europe/Madrid:20260421T140000
DTSTAMP:20260425T130035
CREATED:20260408T134141Z
LAST-MODIFIED:20260421T061822Z
UID:992152-1776772800-1776780000@fundaciontecnovitae.org
SUMMARY:La Fundación TecnoVitae\, presente en los Premios Castilla y León 2025
DESCRIPTION:El martes 21 de abril\, la Fundación refuerza su compromiso con la excelencia y la cultura de nuestra región. Nuestro Presidente\, Rafael Álvarez\, junto al Director General de la Fundación TecnoVitae\, Javier Escribano\, asistirán a la gala de entrega de los «Premios Castilla y León 2025».
URL:https://fundaciontecnovitae.org/evento/la-fundacion-tecnovitae-presente-en-los-premios-castilla-y-leon-2025/
LOCATION:Centro Cultural Miguel Delibes\, Av. del Real Valladolid\, 2\, Valladolid\, Spain
ATTACH;FMTTYPE=image/png:https://fundaciontecnovitae.org/wp-content/uploads/Captura-de-pantalla-2026-04-07-083526.png
END:VEVENT
BEGIN:VEVENT
DTSTART;TZID=Europe/Madrid:20260421T170000
DTEND;TZID=Europe/Madrid:20260421T193000
DTSTAMP:20260425T130035
CREATED:20260420T110038Z
LAST-MODIFIED:20260420T110038Z
UID:992170-1776790800-1776799800@fundaciontecnovitae.org
SUMMARY:La Fundación TecnoVitae\, presente como patrocinadora y jurado en la 42ª edición del "Mejor Empresario del Año"
DESCRIPTION:El próximo martes 21 de abril\, el Director General de nuestra Fundación\, Javier Escribano\, participará en la reunión del jurado de la 42ª edición del certamen «Mejor Empresario del Año» de Valladolid. \nDesde la Fundación TecnoVitae mantenemos un firme compromiso con el reconocimiento del talento y la innovación\, motivo por el cual somos entidad patrocinadora de este prestigioso galardón. La sesión de deliberación del jurado tendrá lugar de 17:00 a 19:30 horas\, donde se evaluarán las trayectorias empresariales más destacadas de la provincia durante el último año. \nA través de este patrocinio\, TecnoVitae reafirma su misión de apoyar el desarrollo del tejido industrial y empresarial\, poniendo en valor el liderazgo que impulsa nuestra economía.
URL:https://fundaciontecnovitae.org/evento/la-fundacion-tecnovitae-presente-como-patrocinadora-y-jurado-en-la-42a-edicion-del-mejor-empresario-del-ano/
LOCATION:Valladolid
ATTACH;FMTTYPE=image/jpeg:https://fundaciontecnovitae.org/wp-content/uploads/TECNOVITAE-blanco-scaled.jpg
END:VEVENT
BEGIN:VEVENT
DTSTART;TZID=Europe/Madrid:20260422T100000
DTEND;TZID=Europe/Madrid:20260422T140000
DTSTAMP:20260425T130035
CREATED:20260421T084330Z
LAST-MODIFIED:20260421T084413Z
UID:992176-1776852000-1776866400@fundaciontecnovitae.org
SUMMARY:La Fundación TecnoVitae participa en la jornada de Portavocía Avanzada y Gestión de Crisis
DESCRIPTION:Mañana 22 de abril\, la Fundación TecnoVitae reforzará su presencia en foros de alto impacto estratégico con la asistencia nuestro Presidente\, Rafael Álvarez y de nuestro Director General\, Javier Escribano\, a la jornada «Portavocía Avanzada y Gestión de Crisis en entornos de alto impacto social». \nEl evento\, organizado por Dircom Castilla y León\, en colaboración con la Asociación Española de Fundaciones (AEF)\, se presenta como una cita clave para abordar la comunicación en situaciones críticas dentro de sectores tecnológicos e industriales. \nUn programa centrado en la estrategia y la innovación\nLa jornada comenzará con la bienvenida de Ignacio Rodríguez-Solano (Director de la Fundación Renault) y Ana Carretero (Presidenta de Dircom CyL)\, dando paso a una ponencia magistral de Antonio Cornadó\, experto en estrategia y socio director de Cornadó & Asociados\, quien profundizará en las claves de la portavocía en contextos de crisis. \nAdemás del bloque teórico\, los representantes de la Fundación TecnoVitae tendrán la oportunidad de conocer de primera mano la vanguardia tecnológica de Renault a través de una visita exclusiva a los centros de I+D+i\, incluyendo: \n\n\nCyber Lab (Ciberseguridad) \n\n\nCreative Lab * PIES \n\n\nLa visita estará guiada por César Lorenzo\, Director de RTS-actividades y polos de competencia\, y finalizará con un espacio de networking para estrechar lazos con otros líderes del sector. \nCompromiso con la formación continua\nCon nuestra presencia en este tipo de encuentros\, la Fundación TecnoVitae reafirma su compromiso con el aprendizaje de las mejores prácticas en gestión y liderazgo\, con el fin de trasladar ese valor a nuestra comunidad y a los proyectos de impacto social y tecnológico que impulsamos.
URL:https://fundaciontecnovitae.org/evento/la-fundacion-tecnovitae-participa-en-la-jornada-de-portavocia-avanzada-y-gestion-de-crisis/
LOCATION:Fundación Renault Group España\, C/ Avda. Madrid\, 72\, Valladolid\, Valladolid\, 47008\, Spain
ATTACH;FMTTYPE=image/png:https://fundaciontecnovitae.org/wp-content/uploads/1080x500_Web_PortavociaCrisis.png
ORGANIZER;CN="Dircom Castilla y Le%C3%B3n":MAILTO:davidgomez@ingenierosvalladolid.es
END:VEVENT
BEGIN:VEVENT
DTSTART;TZID=Europe/Madrid:20260426T120000
DTEND;TZID=Europe/Madrid:20260426T140000
DTSTAMP:20260425T130035
CREATED:20260407T064005Z
LAST-MODIFIED:20260420T074805Z
UID:992142-1777204800-1777212000@fundaciontecnovitae.org
SUMMARY:40º Aniversario de Chernóbil: José Luis Lara analiza el impacto nuclear en TV León
DESCRIPTION:Con motivo del 40º aniversario del accidente nuclear de Chernóbil\, el vicepresidente de la Fundación TecnoVitae\, José Luis Lara\, participará en un programa especial en TV León el próximo 26 de abril.
URL:https://fundaciontecnovitae.org/evento/40o-aniversario-de-chernobil-jose-luis-lara-analiza-el-impacto-nuclear-en-tv-leon/
LOCATION:Valladolid
ATTACH;FMTTYPE=image/jpeg:https://fundaciontecnovitae.org/wp-content/uploads/TECNOVITAE-blanco-scaled.jpg
END:VEVENT
END:VCALENDAR