BEGIN:VCALENDAR
VERSION:2.0
PRODID:-//Fundación TecnoVitae - ECPv6.15.20//NONSGML v1.0//EN
CALSCALE:GREGORIAN
METHOD:PUBLISH
X-WR-CALNAME:Fundación TecnoVitae
X-ORIGINAL-URL:https://fundaciontecnovitae.org
X-WR-CALDESC:Eventos para Fundación TecnoVitae
REFRESH-INTERVAL;VALUE=DURATION:PT1H
X-Robots-Tag:noindex
X-PUBLISHED-TTL:PT1H
BEGIN:VTIMEZONE
TZID:Europe/Madrid
BEGIN:DAYLIGHT
TZOFFSETFROM:+0100
TZOFFSETTO:+0200
TZNAME:CEST
DTSTART:20250330T010000
END:DAYLIGHT
BEGIN:STANDARD
TZOFFSETFROM:+0200
TZOFFSETTO:+0100
TZNAME:CET
DTSTART:20251026T010000
END:STANDARD
BEGIN:DAYLIGHT
TZOFFSETFROM:+0100
TZOFFSETTO:+0200
TZNAME:CEST
DTSTART:20260329T010000
END:DAYLIGHT
BEGIN:STANDARD
TZOFFSETFROM:+0200
TZOFFSETTO:+0100
TZNAME:CET
DTSTART:20261025T010000
END:STANDARD
BEGIN:DAYLIGHT
TZOFFSETFROM:+0100
TZOFFSETTO:+0200
TZNAME:CEST
DTSTART:20270328T010000
END:DAYLIGHT
BEGIN:STANDARD
TZOFFSETFROM:+0200
TZOFFSETTO:+0100
TZNAME:CET
DTSTART:20271031T010000
END:STANDARD
END:VTIMEZONE
BEGIN:VEVENT
DTSTART;TZID=Europe/Madrid:20260422T100000
DTEND;TZID=Europe/Madrid:20260422T140000
DTSTAMP:20260424T181040
CREATED:20260421T084330Z
LAST-MODIFIED:20260421T084413Z
UID:992176-1776852000-1776866400@fundaciontecnovitae.org
SUMMARY:La Fundación TecnoVitae participa en la jornada de Portavocía Avanzada y Gestión de Crisis
DESCRIPTION:Mañana 22 de abril\, la Fundación TecnoVitae reforzará su presencia en foros de alto impacto estratégico con la asistencia nuestro Presidente\, Rafael Álvarez y de nuestro Director General\, Javier Escribano\, a la jornada «Portavocía Avanzada y Gestión de Crisis en entornos de alto impacto social». \nEl evento\, organizado por Dircom Castilla y León\, en colaboración con la Asociación Española de Fundaciones (AEF)\, se presenta como una cita clave para abordar la comunicación en situaciones críticas dentro de sectores tecnológicos e industriales. \nUn programa centrado en la estrategia y la innovación\nLa jornada comenzará con la bienvenida de Ignacio Rodríguez-Solano (Director de la Fundación Renault) y Ana Carretero (Presidenta de Dircom CyL)\, dando paso a una ponencia magistral de Antonio Cornadó\, experto en estrategia y socio director de Cornadó & Asociados\, quien profundizará en las claves de la portavocía en contextos de crisis. \nAdemás del bloque teórico\, los representantes de la Fundación TecnoVitae tendrán la oportunidad de conocer de primera mano la vanguardia tecnológica de Renault a través de una visita exclusiva a los centros de I+D+i\, incluyendo: \n\n\nCyber Lab (Ciberseguridad) \n\n\nCreative Lab * PIES \n\n\nLa visita estará guiada por César Lorenzo\, Director de RTS-actividades y polos de competencia\, y finalizará con un espacio de networking para estrechar lazos con otros líderes del sector. \nCompromiso con la formación continua\nCon nuestra presencia en este tipo de encuentros\, la Fundación TecnoVitae reafirma su compromiso con el aprendizaje de las mejores prácticas en gestión y liderazgo\, con el fin de trasladar ese valor a nuestra comunidad y a los proyectos de impacto social y tecnológico que impulsamos.
URL:https://fundaciontecnovitae.org/evento/la-fundacion-tecnovitae-participa-en-la-jornada-de-portavocia-avanzada-y-gestion-de-crisis/
LOCATION:Fundación Renault Group España\, C/ Avda. Madrid\, 72\, Valladolid\, Valladolid\, 47008\, Spain
ATTACH;FMTTYPE=image/png:https://fundaciontecnovitae.org/wp-content/uploads/1080x500_Web_PortavociaCrisis.png
ORGANIZER;CN="Dircom Castilla y Le%C3%B3n":MAILTO:davidgomez@ingenierosvalladolid.es
END:VEVENT
END:VCALENDAR