BEGIN:VCALENDAR
VERSION:2.0
PRODID:-//Fundación TecnoVitae - ECPv6.15.20//NONSGML v1.0//EN
CALSCALE:GREGORIAN
METHOD:PUBLISH
X-WR-CALNAME:Fundación TecnoVitae
X-ORIGINAL-URL:https://fundaciontecnovitae.org
X-WR-CALDESC:Eventos para Fundación TecnoVitae
REFRESH-INTERVAL;VALUE=DURATION:PT1H
X-Robots-Tag:noindex
X-PUBLISHED-TTL:PT1H
BEGIN:VTIMEZONE
TZID:Europe/Madrid
BEGIN:DAYLIGHT
TZOFFSETFROM:+0100
TZOFFSETTO:+0200
TZNAME:CEST
DTSTART:20250330T010000
END:DAYLIGHT
BEGIN:STANDARD
TZOFFSETFROM:+0200
TZOFFSETTO:+0100
TZNAME:CET
DTSTART:20251026T010000
END:STANDARD
BEGIN:DAYLIGHT
TZOFFSETFROM:+0100
TZOFFSETTO:+0200
TZNAME:CEST
DTSTART:20260329T010000
END:DAYLIGHT
BEGIN:STANDARD
TZOFFSETFROM:+0200
TZOFFSETTO:+0100
TZNAME:CET
DTSTART:20261025T010000
END:STANDARD
BEGIN:DAYLIGHT
TZOFFSETFROM:+0100
TZOFFSETTO:+0200
TZNAME:CEST
DTSTART:20270328T010000
END:DAYLIGHT
BEGIN:STANDARD
TZOFFSETFROM:+0200
TZOFFSETTO:+0100
TZNAME:CET
DTSTART:20271031T010000
END:STANDARD
END:VTIMEZONE
BEGIN:VEVENT
DTSTART;TZID=Europe/Madrid:20260309T120000
DTEND;TZID=Europe/Madrid:20260309T123000
DTSTAMP:20260424T211523
CREATED:20260220T080059Z
LAST-MODIFIED:20260316T073133Z
UID:991952-1773057600-1773059400@fundaciontecnovitae.org
SUMMARY:La Fundación TecnoVitae y BEST Valladolid se unen en FiBEST
DESCRIPTION:La Fundación TecnoVitae y la asociación estudiantil BEST Valladolid han firmado un acuerdo de colaboración para impulsar iniciativas conjuntas orientadas a fomentar la empleabilidad y el desarrollo profesional de los estudiantes universitarios\, reforzando el vínculo entre el ámbito académico\, el sector tecnológico y el tejido empresarial. \n \nLa firma del acuerdo ha contado con la participación de Alejandra Alonso\, Project Manager de la Fundación TecnoVitae; Luis Prieto\, secretario de BEST Valladolid; y Marco Sánchez\, miembro del equipo organizador de FiBEST\, el foro de empleo universitario que se celebra anualmente en Valladolid.
URL:https://fundaciontecnovitae.org/evento/la-fundacion-tecnovitae-y-best-valladolid-se-unen-en-fibest/
LOCATION:Fundación TecnoVitae\, Calle Divina Pastora 1\, 1º\, Valladolid\, Valladolid\, 47004\, Spain
ATTACH;FMTTYPE=image/jpeg:https://fundaciontecnovitae.org/wp-content/uploads/Acuerdo-fibest-wen.jpg
END:VEVENT
END:VCALENDAR