BEGIN:VCALENDAR
VERSION:2.0
PRODID:-//Fundación TecnoVitae - ECPv6.15.20//NONSGML v1.0//EN
CALSCALE:GREGORIAN
METHOD:PUBLISH
X-WR-CALNAME:Fundación TecnoVitae
X-ORIGINAL-URL:https://fundaciontecnovitae.org
X-WR-CALDESC:Eventos para Fundación TecnoVitae
REFRESH-INTERVAL;VALUE=DURATION:PT1H
X-Robots-Tag:noindex
X-PUBLISHED-TTL:PT1H
BEGIN:VTIMEZONE
TZID:Europe/Madrid
BEGIN:DAYLIGHT
TZOFFSETFROM:+0100
TZOFFSETTO:+0200
TZNAME:CEST
DTSTART:20250330T010000
END:DAYLIGHT
BEGIN:STANDARD
TZOFFSETFROM:+0200
TZOFFSETTO:+0100
TZNAME:CET
DTSTART:20251026T010000
END:STANDARD
BEGIN:DAYLIGHT
TZOFFSETFROM:+0100
TZOFFSETTO:+0200
TZNAME:CEST
DTSTART:20260329T010000
END:DAYLIGHT
BEGIN:STANDARD
TZOFFSETFROM:+0200
TZOFFSETTO:+0100
TZNAME:CET
DTSTART:20261025T010000
END:STANDARD
BEGIN:DAYLIGHT
TZOFFSETFROM:+0100
TZOFFSETTO:+0200
TZNAME:CEST
DTSTART:20270328T010000
END:DAYLIGHT
BEGIN:STANDARD
TZOFFSETFROM:+0200
TZOFFSETTO:+0100
TZNAME:CET
DTSTART:20271031T010000
END:STANDARD
END:VTIMEZONE
BEGIN:VEVENT
DTSTART;TZID=Europe/Madrid:20260205T083000
DTEND;TZID=Europe/Madrid:20260205T203000
DTSTAMP:20260424T211356
CREATED:20260130T134718Z
LAST-MODIFIED:20260130T134718Z
UID:991850-1770280200-1770323400@fundaciontecnovitae.org
SUMMARY:La Fundación TecnoVitae asiste al VIII Congreso Nacional de Industria
DESCRIPTION:El Director General de la Fundación TecnoVitae\, D. Javier Escribano\, acudirá el día 5 de febrero a la octava edición del Congreso Nacional de Industria en Bilbao. \nEste congreso\, organizado por el Ministerio de Industria y Turismo\, es el marco clave para analizar las tendencias en autonomía estratégica y nuevas tecnologías aplicadas. La asistencia de la Fundación a esta cita en el Palacio Euskalduna refuerza nuestro compromiso con la innovación y nos permite conectar con las iniciativas nacionales que marcarán la hoja de ruta tecnológica y sostenible de los próximos años.
URL:https://fundaciontecnovitae.org/evento/la-fundacion-tecnovitae-asiste-al-viii-congreso-nacional-de-industria/
LOCATION:Palacio Euskalduna\, Abandoibarra Etorb.\, 4\, Abando\, Bilbao
ATTACH;FMTTYPE=image/gif:https://fundaciontecnovitae.org/wp-content/uploads/linea_tiempo_completo013.gif
END:VEVENT
END:VCALENDAR