BEGIN:VCALENDAR
VERSION:2.0
PRODID:-//Fundación TecnoVitae - ECPv6.15.20//NONSGML v1.0//EN
CALSCALE:GREGORIAN
METHOD:PUBLISH
X-WR-CALNAME:Fundación TecnoVitae
X-ORIGINAL-URL:https://fundaciontecnovitae.org
X-WR-CALDESC:Eventos para Fundación TecnoVitae
REFRESH-INTERVAL;VALUE=DURATION:PT1H
X-Robots-Tag:noindex
X-PUBLISHED-TTL:PT1H
BEGIN:VTIMEZONE
TZID:Europe/Madrid
BEGIN:DAYLIGHT
TZOFFSETFROM:+0100
TZOFFSETTO:+0200
TZNAME:CEST
DTSTART:20240331T010000
END:DAYLIGHT
BEGIN:STANDARD
TZOFFSETFROM:+0200
TZOFFSETTO:+0100
TZNAME:CET
DTSTART:20241027T010000
END:STANDARD
BEGIN:DAYLIGHT
TZOFFSETFROM:+0100
TZOFFSETTO:+0200
TZNAME:CEST
DTSTART:20250330T010000
END:DAYLIGHT
BEGIN:STANDARD
TZOFFSETFROM:+0200
TZOFFSETTO:+0100
TZNAME:CET
DTSTART:20251026T010000
END:STANDARD
BEGIN:DAYLIGHT
TZOFFSETFROM:+0100
TZOFFSETTO:+0200
TZNAME:CEST
DTSTART:20260329T010000
END:DAYLIGHT
BEGIN:STANDARD
TZOFFSETFROM:+0200
TZOFFSETTO:+0100
TZNAME:CET
DTSTART:20261025T010000
END:STANDARD
END:VTIMEZONE
BEGIN:VEVENT
DTSTART;TZID=Europe/Madrid:20251125T110000
DTEND;TZID=Europe/Madrid:20251125T120000
DTSTAMP:20260425T013344
CREATED:20260108T162334Z
LAST-MODIFIED:20260108T162334Z
UID:991657-1764068400-1764072000@fundaciontecnovitae.org
SUMMARY:IdeVa acoge una doble jornada sobre movilidad sostenible e innovación energética
DESCRIPTION:El próximo 25 de noviembre\, la Agencia de Innovación y Desarrollo Económico de Valladolid (IdeVa) será el punto de encuentro para dos actividades orientadas a impulsar la movilidad sostenible en la ciudad y en la región. \n\n\n\n\n\n\n\n\n\nLa mañana comenzará con un Desayuno Tecnológico organizado por CIDAUT en el marco del programa Centr@Tec4. Este encuentro ofrecerá una visión clara y accesible sobre la futura Zona de Bajas Emisiones de Valladolid\, analizando su impacto en empresas y ciudadanos\, así como las principales alternativas tecnológicas disponibles. CIDAUT\, junto con representantes municipales\, aportará una explicación práctica del nuevo modelo urbano y de los retos y oportunidades que supone para profesionales y actividades económicas. \n\n\n\n\n\n\n\n\n\n\n\n\n\n\n\nA continuación\, a partir de las 11:30 h\, tendrá lugar la jornada “Hidrógeno y movilidad\, ¿hacia dónde vamos?”\, una sesión más especializada que pondrá el foco en el hidrógeno verde como alternativa emergente en el transporte. Organizada por la Fundación TecnoVitae y con la participación de expertos de H2CYL\, CIDAUT e ingenieros del ámbito profesional\, esta actividad pretende acercar de forma sencilla el papel que el hidrógeno puede desempeñar en los próximos años en flotas\, servicios y movilidad urbana. \nAmbas actividades complementan una mañana dedicada a comprender hacia dónde evoluciona la movilidad sostenible en Valladolid\, combinando la visión institucional con la experiencia de centros tecnológicos y profesionales del sector. \nPROGRAMA COMPLETO\nJornada ‘Zona de Bajas Emisiones en Valladolid» \n· 09:00 – Bienvenida y presentación de las Ayudas y Servicios ICECYL. Beatriz Casado (ICECYL Valladolid).\n· 09:15 – Presentación de las actuaciones del Programa Centr@Tec4 para las empresas de Castilla y León (Fundación CIDAUT).\n· 09:30 – Zona de bajas emisiones de Valladolid: definición\, implantación y funcionamiento. Centro de movilidad urbana. (Ayuntamiento de Valladolid).\n· 10:00 – Plataforma DUMinVAL: Distribución urbana de mercancías en la ciudad de Valladolid. Centro de movilidad urbana (Ayuntamiento de Valladolid).\n· 10:30 Tecnologías de propulsión compatibles con el acceso a la zona de bajas emisiones. Actualidad y futuro. Javier Romo García (Fundación CIDAUT).\n· 10:50 – Proyecto SPINE: Digitalización del transporte público. Agencia de Innovación y Desarrollo Económico (Ayuntamiento de Valladolid).\n· 11:10 Conclusiones y preguntas\nJornada “Hidrógeno y movilidad\, ¿hacia dónde vamos?”\n\n· 11:30 – Café bienvenida\n\n· 12:00 – Presentación\n\n· 12:15 – Hidrógeno Verde: la movilidad del futuro. Dra. Carmen Martínez Alonso (Responsable de proyectos de H2CYL)\n\n· 12:45 Mesa redonda: Qué esperamos y hacia dónde vamos?\n\n\nAmaya Niño (Líder del paquete de movilidad de CyLH2Valley)\n\n\nJavier Romo (Project Manager de CIDAUT)\n\nÁlvaro Prieto (Project Manager de ingerierosVA) \n· 13:15 Cierre
URL:https://fundaciontecnovitae.org/evento/ideva-acoge-una-doble-jornada-sobre-movilidad-sostenible-e-innovacion-energetica/
LOCATION:Ideva – Agencia de Innovacion y Desarrollo Economico de Valladolid\, Calle de Vega Sicilia\, 2\, Valladolid\, Spain
ATTACH;FMTTYPE=image/png:https://fundaciontecnovitae.org/wp-content/uploads/jornada-hidrogeno-ideva-post-2.png
END:VEVENT
END:VCALENDAR