BEGIN:VCALENDAR
VERSION:2.0
PRODID:-//Fundación TecnoVitae - ECPv6.15.20//NONSGML v1.0//EN
CALSCALE:GREGORIAN
METHOD:PUBLISH
X-WR-CALNAME:Fundación TecnoVitae
X-ORIGINAL-URL:https://fundaciontecnovitae.org
X-WR-CALDESC:Eventos para Fundación TecnoVitae
REFRESH-INTERVAL;VALUE=DURATION:PT1H
X-Robots-Tag:noindex
X-PUBLISHED-TTL:PT1H
BEGIN:VTIMEZONE
TZID:Europe/Madrid
BEGIN:DAYLIGHT
TZOFFSETFROM:+0100
TZOFFSETTO:+0200
TZNAME:CEST
DTSTART:20240331T010000
END:DAYLIGHT
BEGIN:STANDARD
TZOFFSETFROM:+0200
TZOFFSETTO:+0100
TZNAME:CET
DTSTART:20241027T010000
END:STANDARD
BEGIN:DAYLIGHT
TZOFFSETFROM:+0100
TZOFFSETTO:+0200
TZNAME:CEST
DTSTART:20250330T010000
END:DAYLIGHT
BEGIN:STANDARD
TZOFFSETFROM:+0200
TZOFFSETTO:+0100
TZNAME:CET
DTSTART:20251026T010000
END:STANDARD
BEGIN:DAYLIGHT
TZOFFSETFROM:+0100
TZOFFSETTO:+0200
TZNAME:CEST
DTSTART:20260329T010000
END:DAYLIGHT
BEGIN:STANDARD
TZOFFSETFROM:+0200
TZOFFSETTO:+0100
TZNAME:CET
DTSTART:20261025T010000
END:STANDARD
END:VTIMEZONE
BEGIN:VEVENT
DTSTART;TZID=Europe/Madrid:20251124T110000
DTEND;TZID=Europe/Madrid:20251124T120000
DTSTAMP:20260425T013304
CREATED:20260108T135132Z
LAST-MODIFIED:20260108T143216Z
UID:991660-1763982000-1763985600@fundaciontecnovitae.org
SUMMARY:El director general de TecnoVitae pone en valor en COPE la utilidad del Atlas de la Industria en Castilla y León
DESCRIPTION:El lanzamiento del Atlas de la Industria en Castilla y León\, una herramienta digital interactiva que permite consultar\, municipio a municipio\, la situación completa del sector industrial en la Comunidad\, ha sido protagonista en COPE Castilla y León. El director general de la Fundación TecnoVitae\, Javier Escribano\, ha detallado en una entrevista cómo esta herramienta puede ser un recurso de gran utilidad para el conocimiento\, la toma de decisiones y la atracción de talento. \n\n\n\n\n\n\n\n\n\n\n\n\n\n\n\n\nSegún ha explicado\, el valor principal del Atlas reside en su carácter visual e interactivo. A través de filtros por código de actividad (CNAE)\, número de empleados o facturación\, los usuarios pueden explorar la ubicación exacta de las industrias a lo largo de Castilla y León y entender su distribución sectorial. Esta capacidad permite descubrir que en zonas muy cercanas existen industrias de cierto tipo que no siempre conocemos\, o detectar vacíos industriales en otras. Es una radiografía dinámica que convierte datos dispersos en conocimiento útil. \nPero el Atlas no solo es una herramienta dirigida a empresas o administraciones. Según se ha comentado en la entrevista\, una de sus funciones más importantes es orientar a los jóvenes y a los profesionales. “Queremos que los estudiantes sepan qué oportunidades hay aquí y que quienes han dejado Castilla y León puedan mirar si su sector les ofrece oportunidades en su tierra para que se planteen volver”\, ha resumido Javier Escribano en COPE. Nuestro director general ha insistido en que no se trata de cifras frías\, sino de “oportunidades”: laborales\, empresariales y formativas. \nNuevas actualizaciones\nDesde TecnoVitae creemos que el Atlas debe ser una herramienta viva\, diseñada para actualizarse periódicamente. Por ello\, Javier Escribano ha confirmado que ya están previstas dos actualizaciones en 2026\, para adaptarse al nuevo código CNAE. Además\, ha puesto en valor el trabajo realizado por nuestro Comité de Expertos multidisciplinar para su desarrollo\, formado por miembros muy variopintos en cuanto a su especialización\, lo que garantiza una visión profunda y plural del mapa industrial. \nOtro aspecto relevante que se ha mencionado durante la entrevista es cómo la herramienta permite analizar la evolución reciente de las empresas. Se puede ver el número de trabajadores\, cómo ha cambiado la facturación o cómo han crecido (o decrecido) ciertas actividades en los últimos años. Eso da una “demografía empresarial”: no solo saber qué hay\, sino cómo ha cambiado. \nEl lanzamiento del Atlas se enmarca en un objetivo ambicioso: combatir el desconocimiento sobre la industria de Castilla y León y convertirlo en una fuente de oportunidades. Para Escribano\, la herramienta es “muy útil para todos”: estudiantes\, profesionales que quieren regresar\, emprendedores\, administraciones y empresas. \nCon este Atlas\, TecnoVitae refuerza su papel como puente entre la tecnología\, la industria y la sociedad\, al ofrecer datos transparentes y estratégicos para quienes quieren construir el futuro industrial de la región.
URL:https://fundaciontecnovitae.org/evento/el-director-general-de-tecnovitae-pone-en-valor-en-cope-la-utilidad-del-atlas-de-la-industria-en-castilla-y-leon/
LOCATION:Cope Valladolid\, Calle Duque de la Victoria\, 25\, Valladolid\, Spain
ATTACH;FMTTYPE=image/png:https://fundaciontecnovitae.org/wp-content/uploads/entrevista-cope-atlas.png
END:VEVENT
END:VCALENDAR