BEGIN:VCALENDAR
VERSION:2.0
PRODID:-//Fundación TecnoVitae - ECPv6.15.20//NONSGML v1.0//EN
CALSCALE:GREGORIAN
METHOD:PUBLISH
X-ORIGINAL-URL:https://fundaciontecnovitae.org
X-WR-CALDESC:Eventos para Fundación TecnoVitae
REFRESH-INTERVAL;VALUE=DURATION:PT1H
X-Robots-Tag:noindex
X-PUBLISHED-TTL:PT1H
BEGIN:VTIMEZONE
TZID:Europe/Madrid
BEGIN:DAYLIGHT
TZOFFSETFROM:+0100
TZOFFSETTO:+0200
TZNAME:CEST
DTSTART:20240331T010000
END:DAYLIGHT
BEGIN:STANDARD
TZOFFSETFROM:+0200
TZOFFSETTO:+0100
TZNAME:CET
DTSTART:20241027T010000
END:STANDARD
BEGIN:DAYLIGHT
TZOFFSETFROM:+0100
TZOFFSETTO:+0200
TZNAME:CEST
DTSTART:20250330T010000
END:DAYLIGHT
BEGIN:STANDARD
TZOFFSETFROM:+0200
TZOFFSETTO:+0100
TZNAME:CET
DTSTART:20251026T010000
END:STANDARD
BEGIN:DAYLIGHT
TZOFFSETFROM:+0100
TZOFFSETTO:+0200
TZNAME:CEST
DTSTART:20260329T010000
END:DAYLIGHT
BEGIN:STANDARD
TZOFFSETFROM:+0200
TZOFFSETTO:+0100
TZNAME:CET
DTSTART:20261025T010000
END:STANDARD
END:VTIMEZONE
BEGIN:VEVENT
DTSTART;TZID=Europe/Madrid:20251113T110000
DTEND;TZID=Europe/Madrid:20251113T120000
DTSTAMP:20260425T013447
CREATED:20260108T135633Z
LAST-MODIFIED:20260108T143223Z
UID:991663-1763031600-1763035200@fundaciontecnovitae.org
SUMMARY:Éxito de la jornada “Financia tu innovación”\, organizada por TecnoVitae en IdeVa
DESCRIPTION:La sede de la Agencia de Innovación y Desarrollo Económico de Valladolid (IdeVa) ha acogido este martes 11 de noviembre la jornada “Financia tu innovación: oportunidades fiscales\, nacionales y europeas”\, organizada por la Fundación TecnoVitae. El encuentro ha reunido a empresas\, emprendedores y profesionales del ámbito de la I+D+i interesados en conocer las herramientas más efectivas para impulsar sus proyectos tecnológicos mediante financiación pública y privada.\n\n\n\n\n\n\nLa sesión ha sido inaugurada por Fernando Rubio\, gerente de IdeVa\, quien ha destacado la importancia de conectar la innovación empresarial con los mecanismos de apoyo económico disponibles\, antes de que Álvaro Prieto\, Project Manager de TecnoVitae\, diera paso a los ponentes. \n\n\n\n\n\n\n\n\n\n\n\n\n\nEmma Blanco Espeso\, Business Development Manager de Evolution\, ha abierto el turno de intervenciones con una exposición sobre cómo aprovechar las deducciones fiscales vinculadas a proyectos de investigación\, desarrollo e innovación tecnológica. La misma protagonista ha repetido en la siguiente ponencia para detallar las principales convocatorias de ayudas regionales y nacionales\, así como las claves para acceder a ellas con éxito. Finalmente\, Víctor Rodríguez del Olmo\, CEO de la firma\, ha abordado las oportunidades de financiación a escala europea\, subrayando la necesidad de que las empresas españolas refuercen su participación en programas internacionales. \nLa jornada ha concluido con un café networking\, un espacio de intercambio de ideas y experiencias que ha permitido generar nuevas conexiones entre asistentes\, ponentes y organizadores. \n\n\n\n\n\n\n\n\n\n\n\n\n\nCon esta iniciativa\, la Fundación TecnoVitae refuerza su compromiso con el impulso a la innovación como motor de desarrollo industrial y económico\, promoviendo la transferencia de conocimiento y la colaboración entre instituciones\, empresas y profesionales del sector.
URL:https://fundaciontecnovitae.org/evento/exito-de-la-jornada-financia-tu-innovacion-organizada-por-tecnovitae-en-ideva/
LOCATION:Ideva – Agencia de Innovacion y Desarrollo Economico de Valladolid\, Calle de Vega Sicilia\, 2\, Valladolid\, Spain
ATTACH;FMTTYPE=image/jpeg:https://fundaciontecnovitae.org/wp-content/uploads/jornada-ideva-post-2-scaled.jpg
END:VEVENT
END:VCALENDAR