BEGIN:VCALENDAR
VERSION:2.0
PRODID:-//Fundación TecnoVitae - ECPv6.15.20//NONSGML v1.0//EN
CALSCALE:GREGORIAN
METHOD:PUBLISH
X-WR-CALNAME:Fundación TecnoVitae
X-ORIGINAL-URL:https://fundaciontecnovitae.org
X-WR-CALDESC:Eventos para Fundación TecnoVitae
REFRESH-INTERVAL;VALUE=DURATION:PT1H
X-Robots-Tag:noindex
X-PUBLISHED-TTL:PT1H
BEGIN:VTIMEZONE
TZID:Europe/Madrid
BEGIN:DAYLIGHT
TZOFFSETFROM:+0100
TZOFFSETTO:+0200
TZNAME:CEST
DTSTART:20240331T010000
END:DAYLIGHT
BEGIN:STANDARD
TZOFFSETFROM:+0200
TZOFFSETTO:+0100
TZNAME:CET
DTSTART:20241027T010000
END:STANDARD
BEGIN:DAYLIGHT
TZOFFSETFROM:+0100
TZOFFSETTO:+0200
TZNAME:CEST
DTSTART:20250330T010000
END:DAYLIGHT
BEGIN:STANDARD
TZOFFSETFROM:+0200
TZOFFSETTO:+0100
TZNAME:CET
DTSTART:20251026T010000
END:STANDARD
BEGIN:DAYLIGHT
TZOFFSETFROM:+0100
TZOFFSETTO:+0200
TZNAME:CEST
DTSTART:20260329T010000
END:DAYLIGHT
BEGIN:STANDARD
TZOFFSETFROM:+0200
TZOFFSETTO:+0100
TZNAME:CET
DTSTART:20261025T010000
END:STANDARD
END:VTIMEZONE
BEGIN:VEVENT
DTSTART;TZID=Europe/Madrid:20251027T100000
DTEND;TZID=Europe/Madrid:20251027T110000
DTSTAMP:20260425T013304
CREATED:20260108T141238Z
LAST-MODIFIED:20260108T143256Z
UID:991674-1761559200-1761562800@fundaciontecnovitae.org
SUMMARY:La Beca CTS\, una oportunidad para los investigadores de demostrar «cómo pueden dejar un mundo mejor con sus estudios»
DESCRIPTION:La segunda edición de la Beca CTS (Ciencia\, Tecnología y Sociedad) de la Fundación TecnoVitae ya está en marcha\, y Alejandra Alonso Rojo\, Project Manager de la fundación\, ha desgranado los detalles de la convocatoria en conversación con Diego Merayo en A Vivir Castilla y León (Cadena SER).\n\n\n\n\n\n\n\nLa Beca CTS «busca fusionar la ciencia y la tecnología con la sociedad\, y eso es lo que la hace diferente de otros programas»\, ha subrayado. Así\, esta beca tiene como objetivo fomentar estudios que examinen las interacciones recíprocas entre los avances científico-tecnológicos y las dinámicas sociales. \n\n\n\n\n\n\n\n\n\n\n\n\n\n\n\nPor eso\, es imprescindible que los proyectos que se presenten «tengan una visión social»\, que sus promotores no solo busquen obtener un resultado mediante la investigación\, sino que aborden durante el proceso «cómo pueden dejar el mundo mejor de lo que lo han encontrado a través de sus estudios». \nPlazo de presentación de candidaturas: 3 de noviembre\nLa convocatoria permanecerá abierta hasta las 12:00 del próximo 3 de noviembre\, y se dirige a personas en posesión del título de graduado universitario o equivalente\, que sea nivel MECES 2\, y a integrantes de un Grupo de Investigación Reconocido (GIRs)\, de cualquier área del conocimiento. \nCuestiones como la ética en el uso de la inteligencia artificial\, la gobernanza tecnológica\, la percepción pública de la ciencia y la justicia social en innovación\, entre otras\, son algunos de los temas CTS emergentes en los que la beca pone el foco. \nLa Project Manager de TecnoVitae\, que ha destacado que la fundación está ya «en contacto con unas 30 universidades de España»\, ha recordado que participar es «muy sencillito». Los interesados solo tienen que «presentar una carta de motivación\, adjuntar el curriculum vitae con la propuesta y una pequeña justificación económica»\, todo ello por correo electrónico\, a la dirección becacts@tecnovitae.org. Las bases completas están disponibles en la web de la Fundación TecnoVitae. \n5.000 € y promoción para el proyecto ganador\nLa Beca CTS está dotada con 5.000 € para el proyecto ganador\, pero\, además\, «se centra en promocionar la divulgación científica y tecnología\, en dar voz»\, ha comentado Alonso Rojo. Por eso\, anima a los interesados a «no esperar al proyecto o ideas perfectos\, porque es una beca de apoyo a la investigación». Un respaldo que se traduce en «entrevistas\, promoción de las publicaciones que realicen los investigadores y participación en proyectos de la Fundación TecnoVitae\, como los Premios de la Industria en España». \nApuesta por tu proyecto de investigación\, preséntate a la segunda edición de la Beca CTS de la Fundación TecnoVitae y aprovecha esta oportunidad de visibilidad y proyección.
URL:https://fundaciontecnovitae.org/evento/la-beca-cts-una-oportunidad-para-los-investigadores-de-demostrar-como-pueden-dejar-un-mundo-mejor-con-sus-estudios/
LOCATION:Cadena SER Valladolid\, Calle Estación\, 3\, Valladolid\, Spain
ATTACH;FMTTYPE=image/jpeg:https://fundaciontecnovitae.org/wp-content/uploads/entrevista-cts-alejandra-ser-post.jpg
END:VEVENT
BEGIN:VEVENT
DTSTART;TZID=Europe/Madrid:20251027T110000
DTEND;TZID=Europe/Madrid:20251027T120000
DTSTAMP:20260425T013304
CREATED:20260108T140948Z
LAST-MODIFIED:20260108T140948Z
UID:991671-1761562800-1761566400@fundaciontecnovitae.org
SUMMARY:Entrevista a Javier Escribano en Cadena SER: Balance del año en la Fundación TecnoVitae
DESCRIPTION:Les invitamos a sintonizar Cadena SER el próximo sábado\, 27 de diciembre de 2025\, donde contaremos con la participación de nuestro Director General\, Javier Escribano. \nDurante la entrevista\, Javier Escribano realizará un análisis detallado de los proyectos impulsados por la Fundación TecnoVitae a lo largo de este ejercicio. Será una oportunidad idónea para repasar los hitos alcanzados en materia de innovación y el impacto de nuestras iniciativas en el sector industrial de la región. \nAdemás\, el Director General compartirá las líneas maestras y los nuevos retos que afrontaremos en el próximo año 2026.
URL:https://fundaciontecnovitae.org/evento/entrevista-a-javier-escribano-en-cadena-ser-balance-del-ano-en-la-fundacion-tecnovitae/
LOCATION:Cadena SER Valladolid\, Calle Estación\, 3\, Valladolid\, Spain
ATTACH;FMTTYPE=image/png:https://fundaciontecnovitae.org/wp-content/uploads/ser-candidaturas-web-1.png
END:VEVENT
END:VCALENDAR